Workbook

Sheet Svi kontakti
A1: Ime i prezime | B1: Telefon | C1: Email | D1: Opština | E1: FB i IG link | F1: Fotografije | G1: Fotografije
A2: Adam Marijanović | B2: +381616101209 | C2: ucaadam60@gmail.com | D2: Temerin
A3: Admir Ročević | B3: +38163538155 | C3: arocevic@gmail.com | D3: Bačka Palanka
A4: Adorjan Čizmar | B4: +381638028743 | C4: adorjan.cizmar@gmail.com | D4: Vrbas | E4: https://instagram.com/adorjannn?obrf=bWY2cWRyOWkxY21i
A5: Adriana Jakšić | B5: +381612807300 | D5: Novi Bečej
A6: Adriana Ostojin | B6: +381649177390 | D6: Zrenjanin
A7: Adrienn Herbut Nemedi | B7: +381616684528 | C7: nemedi.adrienn@gmail.com | D7: Subotica
A8: Adrijana Krzic | B8: +381600719679 | C8: adrijana.krzic@gmail.com | D8: Ruma
A9: Agota Levai | B9: +381628489345 | C9: levaiagota88@gmail.com | D9: Kanjiža
A10: Akoš Harkai | B10: +381649486585 | C10: harkaiakos90@gmail.com | D10: Bačka Topola
A11: Aldijana Sivčev | B11: +381691971037 | C11: aldijanasivcev10@gmail.com | D11: Bečej
A12: Aleksa Batinić | B12: +381649718885 | C12: aleksadebatinic@gmail.com | D12: Bečej | E12: https://instagram.com/aleksa_batinic?rpxt=c3RoNDFibnlxeHc1
A13: Aleksa Beretić | B13: +381652424599 | C13: aleksaberetic000000@gmail.com | D13: Sombor
A14: Aleksa Čereković | B14: +381612831705 | C14: acaleksacerekovic@gmail.com | D14: Titel
A15: Aleksa Grcic | B15: +38169670244 | D15: Sremska Mitrovica | E15: https://www.facebook.com/share/1DgcMw1fRR/?mibextid=wwXIfr
A16: Aleksa Grujic | B16: +381637076424 | C16: aleksagrujic00@gmail.com | D16: Stara Pazova
A17: Aleksa Krmpotić | C17: aleksa.krmootic@gmail.com | D17: Subotica
A18: Aleksa Mitrovic | B18: +381638200570 | D18: Temerin | E18: https://instagram.com/mitrovica339?obrf=MWhneGhwbmtxYnhqOA%3D%3D
A19: Aleksa Mitrović | B19: +381638209570 | D19: Temerin
A20: Aleksa Tatić | B20: +381653533795 | C20: aleksatatic1290@gmail.com | D20: Bečej
A21: Aleksa Vučetić | B21: +381641421799 | C21: aleksavucetic07@icloud.com | D21: Inđija | E21: https://instagram.com/vucetiicaleksaa?xtok=MXByZWhnN3A3anQxOQ%3D%3D
A22: Aleksa Vuković | B22: +381652290713 | D22: Zrenjanin
A23: Aleksandar Andrejević | B23: +381645984153 | C23: aleksandar.andrejevic1963@gmail.com | D23: Titel
A24: Aleksandar Andriček | B24: +381631299368 | D24: Zrenjanin | E24: https://instagram.com/motivertt?xtok=eHJ0MnBnbmpvZTg4
A25: Aleksandar Antanasijević | B25: +381655709896 | D25: Sremska Mitrovica
A26: Aleksandar Babić | B26: +381604748067 | D26: Kikinda
A27: Aleksandar Babić | B27: +381605915808 | C27: aca.babic@yahoo.com | D27: Sremska Mitrovica
A28: Aleksandar Babić | B28: +381654963979 | C28: babica686@gmail.com | D28: Sremska Mitrovica
A29: Aleksandar Bačić | B29: +38163560050 | D29: Sombor
A30: Aleksandar Bošnjak | B30: +38163535480 | D30: Sombor | E30: https://www.facebook.com/share/18QfBuySFZ/?mibextid=wwXIfr
A31: Aleksandar Branković | B31: +381654557999 | C31: ziroset@gmail.com | D31: Šid
A32: Aleksandar Brkić | B32: +381607356060 | D32: Sremska Mitrovica
A33: Aleksandar Copic | B33: +381642539173 | C33: copicaco@gmail.com | D33: Subotica
A34: Aleksandar Crnogorac | B34: +381677702267 | C34: aleksandarc@gmail.com | D34: Sombor
A35: Aleksandar Djuric | B35: +381694559954 | D35: Pećinci
A36: Aleksandar Dostanic | B36: +381638240084 | D36: Sremska Mitrovica
A37: Aleksandar Dotlić | B37: +38162607572 | D37: Sečanj
A38: Aleksandar Dragin | B38: +381605591511 | C38: dragin.aleksandar@gmail.com | D38: Inđija
A39: Aleksandar Dragovic | B39: +381631059645 | C39: aleksandar85@gmail.com | D39: Kula
A40: Aleksandar Đorđev | B40: +381605141558 | C40: aleksandar.djordjev1994@gmail.com | D40: Zrenjanin
A41: Aleksandar Đurić | B41: +381612509284 | C41: adjuric91@gmail.com | D41: Sremska Mitrovica
A42: Aleksandar Firman | B42: +381641316259 | C42: salefirman@gmail.com | D42: Kula | E42: https://www.facebook.com/share/1LgQZDxQ1P/?mibextid=wwXIfr
A43: Aleksandar Forgić | B43: +381637381274 | C43: forgicsasa@gmail.com | D43: Sombor
A44: Aleksandar Gagic | B44: +38163520478 | D44: Ruma
A45: Aleksandar Grozdanic | B45: +381601564302 | C45: aleksandargrozdanic4@gmail.com | D45: Sombor | E45: https://instagram.com/aleksandargrozdanic4?psln=MXAzM3pvNnRucmhwZA%3D%3D
A46: Aleksandar Holcer | B46: +381638398872 | D46: Sombor
A47: Aleksandar Horvat | B47: +381691866330 | C47: horvataleksandar@gmail.com | D47: Sombor
A48: Aleksandar Ivic | B48: +381637880715 | C48: acaivic28@gmail.com | D48: Stara Pazova | E48: https://instagram.com/ivk3ee?srtk=aXBieHJwZWwwcTNy
A49: Aleksandar Izgarjan | B49: +381692414114 | D49: Zrenjanin
A50: Aleksandar Jelačić | B50: +38163552838 / +38163552738 | C50: jelacic@gmail.com | D50: Sombor
A51: Aleksandar Jocić | B51: +381653537389 | C51: ajocic12@gmail.com | D51: Zrenjanin
A52: Aleksandar Jojić | B52: +381631719152 | C52: aleksajojic008@gmail.com | D52: Temerin
A53: Aleksandar Jovanov | B53: +381631865232 | C53: aleksandarjovanov2@gmail.com | D53: Zrenjanin
A54: Aleksandar Jovanović | B54: +381600623656 | C54: aleksandar.jovanovic8998@gmail.com | D54: Sremska Mitrovica | E54: https://instagram.com/aleksandar_v_jovanovic?obrf=czUxNnVhcWExdHlo
A55: Aleksandar Jovanović | B55: +381615043143 | C55: aleksandarjov282@gmail.com | D55: Šid
A56: Aleksandar Jovicic | B56: +15616294562 | C56: aleksjovicic700@gmail.com | D56: Nova Crnja
A57: Aleksandar Jović | B57: +381658485430 | C57: acojovic00@gmail.com | D57: Temerin
A58: Aleksandar Karapandža | B58: +381631965995 | C58: agrosrce@gmail.com | D58: Novi Bečej | E58: https://instagram.com/krkanbecej?mdxt=MWQ3Z295ODhpMmVsZA%3D%3D
A59: Aleksandar Karas | B59: +381642521779 / +381642021779 | C59: karasaleksandar1@gmail.com | D59: Bačka Palanka
A60: Aleksandar Kefer | B60: +38169610311 | C60: kefer.aleksandar@gmail.com | D60: Sremska Mitrovica | E60: https://instagram.com/aleksandarkefer?exln=MXVwcjdmOWxyMDFobg%3D%3D
A61: Aleksandar Knezevic | B61: +381698055876 | C61: fjodor.senta@gmail.com | D61: Senta | E61: https://instagram.com/aleksandar_l_knezevic?rpxt=eWw0M3RrMnl6bjBs
A62: Aleksandar Kotarlić | B62: +381665238013 | D62: Šid | E62: https://www.facebook.com/share/1H2nxVXvtW/?mibextid=wwXIfr
A63: Aleksandar Krstevski | B63: +38163458016 | C63: sasakrstevski@gmail.com | D63: Sombor | E63: https://instagram.com/krcaso74?dlrf=MW9rZDJ6ZGIydGs5aA%3D%3D
A64: Aleksandar Kuridža | B64: +381644102347 | D64: Sombor
A65: Aleksandar Lekic | B65: +381653403566 | C65: aleksandar.lekic83@gmail.com | D65: Stara Pazova
A66: Aleksandar Lendvai | B66: +381640492552 | C66: aleksandarlendvai@gmail.com | D66: Subotica
A67: Aleksandar Lipovan | B67: +381638259266 | C67: aleksandarlipovan@gmail.com | D67: Kikinda | E67: https://www.facebook.com/share/1DtFrshMz8/?mibextid=wwXIfr
A68: Aleksandar Lukić | B68: +381603919888 | C68: sasalukic88@gmail.com | D68: Zrenjanin
A69: Aleksandar Makivic | B69: +381637868489 | D69: Nova Crnja
A70: Aleksandar Maletic | B70: +381695149078 | D70: Ruma
A71: Aleksandar Mandic | B71: +381654705851 | C71: aleksandarmandic246@gmail.com | D71: Odžaci
A72: Aleksandar Marinković | B72: +381644329574 | D72: Sremska Mitrovica
A73: Aleksandar Marjanušić | B73: +381643735667 | C73: marjanusic.a@gmail.com | D73: Subotica | E73: https://www.facebook.com/share/1F84DN2yHN/?mibextid=wwXIfr
A74: Aleksandar Marotić | B74: +38163547386 | C74: marotics@gmail.com | D74: Sombor
A75: Aleksandar Marton | B75: +381648116502 | C75: alexandarmarton@gmail.com | D75: Zrenjanin | E75: https://www.facebook.com/share/18KksjABDJ/?mibextid=wwXIfr
A76: Aleksandar Matić | B76: +38162512244 | C76: alexmatic62@gmail.com | D76: Ruma
A77: Aleksandar Miklič | B77: +381665128515 | C77: miklicaleksandar8@gmail.com | D77: Bačka Palanka
A78: Aleksandar Milic | B78: +381607612490 | C78: malekssandar@gmail.com | D78: Bačka Palanka
A79: Aleksandar Milić | B79: +381638655021 | C79: aleksandarmilic1984@gmail.com | D79: Šid
A80: Aleksandar Milićev | B80: +381692103977 | D80: Zrenjanin
A81: Aleksandar Milošev | B81: +381631429124 | D81: Žabalj
A82: Aleksandar Milošević | B82: +38164072284 | D82: Sečanj
A83: Aleksandar Miok | B83: +381693709199 | D83: Zrenjanin
A84: Aleksandar Misak | B84: +381616291090 | D84: Kula
A85: Aleksandar Mišić | B85: +38163519863 | C85: mcbaycow@gmail.com | D85: Novi Bečej
A86: Aleksandar Mitrović | B86: +381605677970 | C86: aleksandar.mitrovic@mbprint.eu | D86: Temerin
A87: Aleksandar Momčilović | B87: +381653297329 | C87: acaskydive@gmail.com | D87: Srbobran | E87: https://instagram.com/skydiving_novisad?xtok=MWI5ZHhoY2xrYXhrbA%3D%3D
A88: Aleksandar Mošorinski | B88: +381641876932 | C88: acamosorinski71@gmail.com | D88: Zrenjanin
A89: Aleksandar Nikolić | B89: +381658587951 | C89: fliknik9@gmail.com | D89: Vrbas
A90: Aleksandar Nikolić | B90: +381694246994 | D90: Zrenjanin
A91: Aleksandar Orlić | B91: +381616513219 | C91: aleksandarorlic87@gmail.com | D91: Sombor | E91: https://www.facebook.com/share/19xeduXQKV/?mibextid=wwXIfr
A92: Aleksandar Ostojić | B92: +46765559492 | C92: alex73.se@gmail.com | D92: Sremska Mitrovica
A93: Aleksandar Pejić | B93: +381640271959 | C93: pejicaleksandar96@gmail.com | D93: Zrenjanin | E93: https://instagram.com/aleksandar.pejic.zr?rpxt=bmgybXI1YmVrbmoz
A94: Aleksandar Perazić | B94: +381691113560 | C94: perazic94@gmail.com | D94: Mali Iđoš
A95: Aleksandar Petković | B95: +381648442042 | D95: Sombor
A96: Aleksandar Petric | B96: +38163538157 | D96: Bačka Palanka
A97: Aleksandar Petrović | B97: +381658422101 | C97: aleksandarpetrovic2508@gmail.com | D97: Beočin
A98: Aleksandar Petrović | B98: +381629719604 | C98: petrovicsisatovac@gmail.com | D98: Sremska Mitrovica
A99: Aleksandar Petrović | B99: +38163451543 | D99: Šid
A100: Aleksandar Popov | B100: +381607295521 | C100: aleksandar.popov02@gmail.com | D100: Kikinda
...

Sheet Broj po opštinama
A1: Opština | B1: Broj ljudi
A2: Ada | B2: =COUNTIF('Svi kontakti'!$D$2:$D$3616,A2) -> 14
A3: Apatin | B3: =COUNTIF('Svi kontakti'!$D$2:$D$3616,A3) -> 13
A4: Bač | B4: =COUNTIF('Svi kontakti'!$D$2:$D$3616,A4) -> 29
A5: Bačka Palanka | B5: =COUNTIF('Svi kontakti'!$D$2:$D$3616,A5) -> 240
A6: Bačka Topola | B6: =COUNTIF('Svi kontakti'!$D$2:$D$3616,A6) -> 35
A7: Bački Petrovac | B7: =COUNTIF('Svi kontakti'!$D$2:$D$3616,A7) -> 24
A8: Bečej | B8: =COUNTIF('Svi kontakti'!$D$2:$D$3616,A8) -> 106
A9: Bela Crkva | B9: =COUNTIF('Svi kontakti'!$D$2:$D$3616,A9) -> 7
A10: Beočin | B10: =COUNTIF('Svi kontakti'!$D$2:$D$3616,A10) -> 61
A11: Čoka | B11: =COUNTIF('Svi kontakti'!$D$2:$D$3616,A11) -> 14
A12: Inđija | B12: =COUNTIF('Svi kontakti'!$D$2:$D$3616,A12) -> 70
A13: Irig | B13: =COUNTIF('Svi kontakti'!$D$2:$D$3616,A13) -> 13
... A45: Žitište | B45: =COUNTIF('Svi kontakti'!$D$2:$D$3616,A45) -> 48
A46: Ukupno | B46: =COUNTA('Svi kontakti'!$A$2:$A$3616) -> 3615

Sheet Napomene o uparivanju
A1: Status | B1: Red u Tabeli | C1: Broj iz kolone A | D1: Ime u Tabeli | E1: Red u Mobilni timovi | F1: Ime u Mobilni timovi | G1: Detalj
A2: upareno uz proveru | B2: 16 | C2: 18 | D2: Aleksa Mitrović | E2: 18 | F2: Aleksa Mitrovic | G2: tačno ime i prezime; red u tabeli 18 (razlika +0)
A3: upareno uz proveru | B3: 31 | C3: 34 | D3: Aleksandar Djurić | E3: 35 | F3: Aleksandar Djuric | G3: tačno ime i prezime; telefon
A4: upareno uz proveru | B4: 38 | C4: 3513 | D4: Zoran Kijurina | E4: 3504 | F4: Zoran Kijurin | G4: slično ime (provereno); jedinstveno
A5: upareno uz proveru | B5: 47 | C5: 43 | D5: Aleksnandar Gagić | E5: 44 | F5: Aleksandar Gagic | G5: slično ime (provereno); jedinstveno
A6: upareno uz proveru | B6: 54 | C6: 3503 | D6: Zoran Grbić | E6: 3496 | F6: Zoran Grubic | G6: slično ime (provereno); jedinstveno
A7: upareno uz proveru | B7: 55 | C7: 3458 | D7: Zdenka Stpancevic | E7: 3449 | F7: Zdenka Stipancevic | G7: slično ime (provereno); jedinstveno
A8: upareno uz proveru | B8: 57 | C8: 53 | D8: Aleksandar Jovanovic | E8: 54 | F8: Aleksandar Jovanović | G8: tačno ime i prezime; red u tabeli 53 (razlika +1)
A9: upareno uz proveru | B9: 62 | C9: 57 | D9: Aleksandar Karpandža | E9: 58 | F9: Aleksandar Karapandža | G9: slično ime (provereno); jedinstveno
A10: upareno uz proveru | B10: 64 | C10: 1500 | D10: Karlona Olah | E10: 1497 | F10: Karolina Olah | G10: slično ime (provereno); jedinstveno
A11: upareno uz proveru | B11: 77 | C11: 1039 | D11: Florian Pesevski | E11: 1036 | F11: Florian Aleksandar Pesevski | G11: slično ime (provereno); jedinstveno
A12: upareno uz proveru | B12: 78 | C12: 1049 | D12: Gabriella Majstorović | E12: 1046 | F12: Gabriela Majstorović | G12: slično ime (provereno); jedinstveno
A13: upareno uz proveru | B13: 101 | C13: 1070 | D13: Goran Bošnjak | E13: 1067 | F13: Goran Bošnjak | G13: tačno ime i prezime; email
... A18: upareno uz proveru | B18: 124 | C18: 502 | D18: Čedo Želbič | E18: 502 | F18: Čedo Žlebić | G18: slično ime (provereno); jedinstveno
A19: nije pronađen | B19: 127 | C19: 2501 | D19: Vuk Matijević
A20: upareno uz proveru | B20: 137 | C20: 2083 | D20: Miloš Jovanovic | E20: 2079 | F20: Milos Jovanovic | G20: tačno ime i prezime; red u tabeli 2083 (razlika -4)
A21: upareno uz proveru | B21: 155 | C21: 516 | D21: Dalibor Medovski | E21: 516 | F21: Dalibor Medovarski | G21: slično ime (provereno); jedinstveno
A22: upareno uz proveru | B22: 160 | C22: 2110 | D22: Miloš Jovanić | E22: 2106 | F22: Miloš Jovanić Žaki | G22: slično ime (provereno); jedinstveno
A23: upareno uz proveru | B23: 161 | C23: 2111 | D23: Miloš Jovanović | E23: 2107 | F23: Miloš Jovanović | G23: tačno ime i prezime; red u tabeli 2111 (razlika -4)
