Workbook

Sheet Svi kontakti
A1: Ime i prezime | B1: Telefon | C1: Email | D1: Opština | E1: FB i IG link | F1: Fotografije | G1: Fotografije
A2: Adam Marijanović | B2: +381616101209 | C2: ucaadam60@gmail.com | D2: Temerin
A3: Admir Ročević | B3: +38163538155 | C3: arocevic@gmail.com | D3: Bačka Palanka
A4: Adorjan Čizmar | B4: +381638028743 | C4: adorjan.cizmar@gmail.com | D4: Vrbas | E4: https://instagram.com/adorjannn?obrf=bWY2cWRyOWkxY21i
A5: Adriana Jakšić | B5: +381612807300 | D5: Novi Bečej
A6: Adriana Ostojin | B6: +381649177390 | D6: Zrenjanin
A7: Adrienn Herbut Nemedi | B7: +381616684528 | C7: nemedi.adrienn@gmail.com | D7: Subotica
A8: Adrijana Krzic | B8: +381600719679 | C8: adrijana.krzic@gmail.com | D8: Ruma
A9: Agota Levai | B9: +381628489345 | C9: levaiagota88@gmail.com | D9: Kanjiža
A10: Akoš Harkai | B10: +381649486585 | C10: harkaiakos90@gmail.com | D10: Bačka Topola
A11: Aldijana Sivčev | B11: +381691971037 | C11: aldijanasivcev10@gmail.com | D11: Bečej
A12: Aleksa Batinić | B12: +381649718885 | C12: aleksadebatinic@gmail.com | D12: Bečej | E12: https://instagram.com/aleksa_batinic?rpxt=c3RoNDFibnlxeHc1
A13: Aleksa Beretić | B13: +381652424599 | C13: aleksaberetic000000@gmail.com | D13: Sombor
A14: Aleksa Čereković | B14: +381612831705 | C14: acaleksacerekovic@gmail.com | D14: Titel
A15: Aleksa Grcic | B15: +38169670244 | D15: Sremska Mitrovica | E15: https://www.facebook.com/share/1DgcMw1fRR/?mibextid=wwXIfr
A16: Aleksa Grujic | B16: +381637076424 | C16: aleksagrujic00@gmail.com | D16: Stara Pazova
A17: Aleksa Krmpotić | C17: aleksa.krmootic@gmail.com | D17: Subotica
A18: Aleksa Mitrovic | B18: +381638200570 | D18: Temerin | E18: https://instagram.com/mitrovica339?obrf=MWhneGhwbmtxYnhqOA%3D%3D
A19: Aleksa Mitrović | B19: +381638209570 | D19: Temerin
A20: Aleksa Tatić | B20: +381653533795 | C20: aleksatatic1290@gmail.com | D20: Bečej
A21: Aleksa Vučetić | B21: +381641421799 | C21: aleksavucetic07@icloud.com | D21: Inđija | E21: https://instagram.com/vucetiicaleksaa?xtok=MXByZWhnN3A3anQxOQ%3D%3D
A22: Aleksa Vuković | B22: +381652290713 | D22: Zrenjanin
A23: Aleksandar Andrejević | B23: +381645984153 | C23: aleksandar.andrejevic1963@gmail.com | D23: Titel
A24: Aleksandar Andriček | B24: +381631299368 | D24: Zrenjanin | E24: https://instagram.com/motivertt?xtok=eHJ0MnBnbmpvZTg4
A25: Aleksandar Antanasijević | B25: +381655709896 | D25: Sremska Mitrovica
A26: Aleksandar Babić | B26: +381604748067 | D26: Kikinda
A27: Aleksandar Babić | B27: +381605915808 | C27: aca.babic@yahoo.com | D27: Sremska Mitrovica
A28: Aleksandar Babić | B28: +381654963979 | C28: babica686@gmail.com | D28: Sremska Mitrovica
A29: Aleksandar Bačić | B29: +38163560050 | D29: Sombor
A30: Aleksandar Bošnjak | B30: +38163535480 | D30: Sombor | E30: https://www.facebook.com/share/18QfBuySFZ/?mibextid=wwXIfr
A31: Aleksandar Branković | B31: +381654557999 | C31: ziroset@gmail.com | D31: Šid
A32: Aleksandar Brkić | B32: +381607356060 | D32: Sremska Mitrovica
A33: Aleksandar Copic | B33: +381642539173 | C33: copicaco@gmail.com | D33: Subotica
A34: Aleksandar Crnogorac | B34: +381677702267 | C34: aleksandarc@gmail.com | D34: Sombor
A35: Aleksandar Djuric | B35: +381694559954 | D35: Pećinci
A36: Aleksandar Dostanic | B36: +381638240084 | D36: Sremska Mitrovica
A37: Aleksandar Dotlić | B37: +38162607572 | D37: Sečanj
A38: Aleksandar Dragin | B38: +381605591511 | C38: dragin.aleksandar@gmail.com | D38: Inđija
A39: Aleksandar Dragovic | B39: +381631059645 | C39: aleksandar85@gmail.com | D39: Kula
A40: Aleksandar Đorđev | B40: +381605141558 | C40: aleksandar.djordjev1994@gmail.com | D40: Zrenjanin
...

Sheet Broj po opštinama
A1: Opština | B1: Broj ljudi
A2: Ada | B2: =COUNTIF('Svi kontakti'!$D$2:$D$3616,A2) -> 14
A3: Apatin | B3: =COUNTIF('Svi kontakti'!$D$2:$D$3616,A3) -> 13
A4: Bač | B4: =COUNTIF('Svi kontakti'!$D$2:$D$3616,A4) -> 29
A5: Bačka Palanka | B5: =COUNTIF('Svi kontakti'!$D$2:$D$3616,A5) -> 240
A6: Bačka Topola | B6: =COUNTIF('Svi kontakti'!$D$2:$D$3616,A6) -> 35
A7: Bački Petrovac | B7: =COUNTIF('Svi kontakti'!$D$2:$D$3616,A7) -> 24
A8: Bečej | B8: =COUNTIF('Svi kontakti'!$D$2:$D$3616,A8) -> 106
A9: Bela Crkva | B9: =COUNTIF('Svi kontakti'!$D$2:$D$3616,A9) -> 7
A10: Beočin | B10: =COUNTIF('Svi kontakti'!$D$2:$D$3616,A10) -> 61
A11: Čoka | B11: =COUNTIF('Svi kontakti'!$D$2:$D$3616,A11) -> 14
A12: Inđija | B12: =COUNTIF('Svi kontakti'!$D$2:$D$3616,A12) -> 70
A13: Irig | B13: =COUNTIF('Svi kontakti'!$D$2:$D$3616,A13) -> 13
... A45: Žitište | B45: =COUNTIF('Svi kontakti'!$D$2:$D$3616,A45) -> 48
A46: Ukupno | B46: =COUNTA('Svi kontakti'!$A$2:$A$3616) -> 3615

Sheet Napomene o uparivanju
A1: Status | B1: Red u Tabeli | C1: Broj iz kolone A | D1: Ime u Tabeli | E1: Red u Mobilni timovi | F1: Ime u Mobilni timovi | G1: Detalj
A2: upareno uz proveru | B2: 16 | C2: 18 | D2: Aleksa Mitrović | E2: 18 | F2: Aleksa Mitrovic | G2: tačno ime i prezime; red u tabeli 18 (razlika +0)
A3: upareno uz proveru | B3: 31 | C3: 34 | D3: Aleksandar Djurić | E3: 35 | F3: Aleksandar Djuric | G3: tačno ime i prezime; telefon
A4: upareno uz proveru | B4: 38 | C4: 3513 | D4: Zoran Kijurina | E4: 3504 | F4: Zoran Kijurin | G4: slično ime (provereno); jedinstveno
A5: upareno uz proveru | B5: 47 | C5: 43 | D5: Aleksnandar Gagić | E5: 44 | F5: Aleksandar Gagic | G5: slično ime (provereno); jedinstveno
A6: upareno uz proveru | B6: 54 | C6: 3503 | D6: Zoran Grbić | E6: 3496 | F6: Zoran Grubic | G6: slično ime (provereno); jedinstveno
A7: upareno uz proveru | B7: 55 | C7: 3458 | D7: Zdenka Stpancevic | E7: 3449 | F7: Zdenka Stipancevic | G7: slično ime (provereno); jedinstveno
A8: upareno uz proveru | B8: 57 | C8: 53 | D8: Aleksandar Jovanovic | E8: 54 | F8: Aleksandar Jovanović | G8: tačno ime i prezime; red u tabeli 53 (razlika +1)
A9: upareno uz proveru | B9: 62 | C9: 57 | D9: Aleksandar Karpandža | E9: 58 | F9: Aleksandar Karapandža | G9: slično ime (provereno); jedinstveno
A10: upareno uz proveru | B10: 64 | C10: 1500 | D10: Karlona Olah | E10: 1497 | F10: Karolina Olah | G10: slično ime (provereno); jedinstveno
A11: upareno uz proveru | B11: 77 | C11: 1039 | D11: Florian Pesevski | E11: 1036 | F11: Florian Aleksandar Pesevski | G11: slično ime (provereno); jedinstveno
A12: upareno uz proveru | B12: 78 | C12: 1049 | D12: Gabriella Majstorović | E12: 1046 | F12: Gabriela Majstorović | G12: slično ime (provereno); jedinstveno
A13: upareno uz proveru | B13: 101 | C13: 1070 | D13: Goran Bošnjak | E13: 1067 | F13: Goran Bošnjak | G13: tačno ime i prezime; email
... A18: upareno uz proveru | B18: 124 | C18: 502 | D18: Čedo Želbič | E18: 502 | F18: Čedo Žlebić | G18: slično ime (provereno); jedinstveno
A19: nije pronađen | B19: 127 | C19: 2501 | D19: Vuk Matijević
A20: upareno uz proveru | B20: 137 | C20: 2083 | D20: Miloš Jovanovic | E20: 2079 | F20: Milos Jovanovic | G20: tačno ime i prezime; red u tabeli 2083 (razlika -4)
A21: upareno uz proveru | B21: 155 | C21: 516 | D21: Dalibor Medovski | E21: 516 | F21: Dalibor Medovarski | G21: slično ime (provereno); jedinstveno
A22: upareno uz proveru | B22: 160 | C22: 2110 | D22: Miloš Jovanić | E22: 2106 | F22: Miloš Jovanić Žaki | G22: slično ime (provereno); jedinstveno
A23: upareno uz proveru | B23: 161 | C23: 2111 | D23: Miloš Jovanović | E23: 2107 | F23: Miloš Jovanović | G23: tačno ime i prezime; red u tabeli 2111 (razlika -4)
